BEGIN:VCALENDAR
VERSION:2.0
PRODID:-//Trained Dog Happy Dog - ECPv1.0//NONSGML v1.0//EN
CALSCALE:GREGORIAN
METHOD:PUBLISH
X-WR-CALNAME:Trained Dog Happy Dog
X-ORIGINAL-URL:https://traineddoghappydog.com
X-WR-CALDESC:Events for Trained Dog Happy Dog
BEGIN:VEVENT
DTSTART;VALUE=DATE-TIME:20260402T223000Z
DTEND;VALUE=DATE-TIME:20260402T232500Z
DTSTAMP:20260425T132558
UID:228-1775169000-1775172300@https://traineddoghappydog.com
SUMMARY:Agility Beg
DESCRIPTION:Agility Class Beginner Level
LOCATION:TDHD, 8575 NW 150th ave Morriston FL 32668
END:VEVENT
BEGIN:VEVENT
DTSTART;VALUE=DATE-TIME:20260402T213000Z
DTEND;VALUE=DATE-TIME:20260402T223000Z
DTSTAMP:20260425T132558
UID:226-1775165400-1775169000@https://traineddoghappydog.com
SUMMARY:Agility Int 1
DESCRIPTION:Agility Class Intermediate Level 1
LOCATION:TDHD, 8575 NW 150th ave Morriston FL 32668
END:VEVENT
BEGIN:VEVENT
DTSTART;VALUE=DATE-TIME:20260403T114500Z
DTEND;VALUE=DATE-TIME:20260404T040000Z
DTSTAMP:20260425T132558
UID:519-1775216700-1775275200@https://traineddoghappydog.com
SUMMARY:CPE Ag. Trial
DESCRIPTION:CPE Agility Trial
LOCATION:Paws & Ques. Williston
END:VEVENT
BEGIN:VEVENT
DTSTART;VALUE=DATE-TIME:20260404T114500Z
DTEND;VALUE=DATE-TIME:20260405T040000Z
DTSTAMP:20260425T132558
UID:519-1775303100-1775361600@https://traineddoghappydog.com
SUMMARY:CPE Ag. Trial
DESCRIPTION:CPE Agility Trial
LOCATION:Paws & Ques. Williston
END:VEVENT
BEGIN:VEVENT
DTSTART;VALUE=DATE-TIME:20260405T114500Z
DTEND;VALUE=DATE-TIME:20260406T040000Z
DTSTAMP:20260425T132558
UID:519-1775389500-1775448000@https://traineddoghappydog.com
SUMMARY:CPE Ag. Trial
DESCRIPTION:CPE Agility Trial
LOCATION:Paws & Ques. Williston
END:VEVENT
BEGIN:VEVENT
DTSTART;VALUE=DATE-TIME:20260406T220000Z
DTEND;VALUE=DATE-TIME:20260406T230000Z
DTSTAMP:20260425T132558
UID:262-1775512800-1775516400@https://traineddoghappydog.com
SUMMARY:Agility Int 2
DESCRIPTION:Agility Class Intermediate Level 2
LOCATION:TDHD, 8575 NW 150th ave Morriston FL 32668
END:VEVENT
BEGIN:VEVENT
DTSTART;VALUE=DATE-TIME:20260407T210000Z
DTEND;VALUE=DATE-TIME:20260407T215500Z
DTSTAMP:20260425T132558
UID:227-1775595600-1775598900@https://traineddoghappydog.com
SUMMARY:Obed
DESCRIPTION:Obedience
LOCATION:TDHD, 8575 NW 150th ave Morriston FL 32668
END:VEVENT
BEGIN:VEVENT
DTSTART;VALUE=DATE-TIME:20260409T223000Z
DTEND;VALUE=DATE-TIME:20260409T232500Z
DTSTAMP:20260425T132558
UID:228-1775773800-1775777100@https://traineddoghappydog.com
SUMMARY:Agility Beg
DESCRIPTION:Agility Class Beginner Level
LOCATION:TDHD, 8575 NW 150th ave Morriston FL 32668
END:VEVENT
BEGIN:VEVENT
DTSTART;VALUE=DATE-TIME:20260409T213000Z
DTEND;VALUE=DATE-TIME:20260409T223000Z
DTSTAMP:20260425T132558
UID:226-1775770200-1775773800@https://traineddoghappydog.com
SUMMARY:Agility Int 1
DESCRIPTION:Agility Class Intermediate Level 1
LOCATION:TDHD, 8575 NW 150th ave Morriston FL 32668
END:VEVENT
BEGIN:VEVENT
DTSTART;VALUE=DATE-TIME:20260413T220000Z
DTEND;VALUE=DATE-TIME:20260413T230000Z
DTSTAMP:20260425T132558
UID:262-1776117600-1776121200@https://traineddoghappydog.com
SUMMARY:Agility Int 2
DESCRIPTION:Agility Class Intermediate Level 2
LOCATION:TDHD, 8575 NW 150th ave Morriston FL 32668
END:VEVENT
BEGIN:VEVENT
DTSTART;VALUE=DATE-TIME:20260414T210000Z
DTEND;VALUE=DATE-TIME:20260414T215500Z
DTSTAMP:20260425T132558
UID:227-1776200400-1776203700@https://traineddoghappydog.com
SUMMARY:Obed
DESCRIPTION:Obedience
LOCATION:TDHD, 8575 NW 150th ave Morriston FL 32668
END:VEVENT
BEGIN:VEVENT
DTSTART;VALUE=DATE-TIME:20260416T223000Z
DTEND;VALUE=DATE-TIME:20260416T232500Z
DTSTAMP:20260425T132558
UID:228-1776378600-1776381900@https://traineddoghappydog.com
SUMMARY:Agility Beg
DESCRIPTION:Agility Class Beginner Level
LOCATION:TDHD, 8575 NW 150th ave Morriston FL 32668
END:VEVENT
BEGIN:VEVENT
DTSTART;VALUE=DATE-TIME:20260416T213000Z
DTEND;VALUE=DATE-TIME:20260416T223000Z
DTSTAMP:20260425T132558
UID:226-1776375000-1776378600@https://traineddoghappydog.com
SUMMARY:Agility Int 1
DESCRIPTION:Agility Class Intermediate Level 1
LOCATION:TDHD, 8575 NW 150th ave Morriston FL 32668
END:VEVENT
BEGIN:VEVENT
DTSTART;VALUE=DATE:20260418
DTEND;VALUE=DATE:20260419
DTSTAMP:20260425T132558
UID:518-1776470400-1776556800@https://traineddoghappydog.com
SUMMARY:CPE Scent Trial
DESCRIPTION:CPE Scent Trial.\nDownload Premium: CPE.dog
LOCATION:TDHD, 8575 NW 150th ave., Morriston. FL 32668.
END:VEVENT
BEGIN:VEVENT
DTSTART;VALUE=DATE:20260419
DTEND;VALUE=DATE:20260420
DTSTAMP:20260425T132558
UID:518-1776556800-1776643200@https://traineddoghappydog.com
SUMMARY:CPE Scent Trial
DESCRIPTION:CPE Scent Trial.\nDownload Premium: CPE.dog
LOCATION:TDHD, 8575 NW 150th ave., Morriston. FL 32668.
END:VEVENT
BEGIN:VEVENT
DTSTART;VALUE=DATE-TIME:20260420T220000Z
DTEND;VALUE=DATE-TIME:20260420T230000Z
DTSTAMP:20260425T132558
UID:262-1776722400-1776726000@https://traineddoghappydog.com
SUMMARY:Agility Int 2
DESCRIPTION:Agility Class Intermediate Level 2
LOCATION:TDHD, 8575 NW 150th ave Morriston FL 32668
END:VEVENT
BEGIN:VEVENT
DTSTART;VALUE=DATE-TIME:20260421T210000Z
DTEND;VALUE=DATE-TIME:20260421T215500Z
DTSTAMP:20260425T132558
UID:227-1776805200-1776808500@https://traineddoghappydog.com
SUMMARY:Obed
DESCRIPTION:Obedience
LOCATION:TDHD, 8575 NW 150th ave Morriston FL 32668
END:VEVENT
BEGIN:VEVENT
DTSTART;VALUE=DATE-TIME:20260423T223000Z
DTEND;VALUE=DATE-TIME:20260423T232500Z
DTSTAMP:20260425T132558
UID:228-1776983400-1776986700@https://traineddoghappydog.com
SUMMARY:Agility Beg
DESCRIPTION:Agility Class Beginner Level
LOCATION:TDHD, 8575 NW 150th ave Morriston FL 32668
END:VEVENT
BEGIN:VEVENT
DTSTART;VALUE=DATE-TIME:20260423T213000Z
DTEND;VALUE=DATE-TIME:20260423T223000Z
DTSTAMP:20260425T132558
UID:226-1776979800-1776983400@https://traineddoghappydog.com
SUMMARY:Agility Int 1
DESCRIPTION:Agility Class Intermediate Level 1
LOCATION:TDHD, 8575 NW 150th ave Morriston FL 32668
END:VEVENT
BEGIN:VEVENT
DTSTART;VALUE=DATE-TIME:20260427T220000Z
DTEND;VALUE=DATE-TIME:20260427T230000Z
DTSTAMP:20260425T132558
UID:262-1777327200-1777330800@https://traineddoghappydog.com
SUMMARY:Agility Int 2
DESCRIPTION:Agility Class Intermediate Level 2
LOCATION:TDHD, 8575 NW 150th ave Morriston FL 32668
END:VEVENT
BEGIN:VEVENT
DTSTART;VALUE=DATE-TIME:20260428T210000Z
DTEND;VALUE=DATE-TIME:20260428T215500Z
DTSTAMP:20260425T132558
UID:227-1777410000-1777413300@https://traineddoghappydog.com
SUMMARY:Obed
DESCRIPTION:Obedience
LOCATION:TDHD, 8575 NW 150th ave Morriston FL 32668
END:VEVENT
BEGIN:VEVENT
DTSTART;VALUE=DATE-TIME:20260430T223000Z
DTEND;VALUE=DATE-TIME:20260430T232500Z
DTSTAMP:20260425T132558
UID:228-1777588200-1777591500@https://traineddoghappydog.com
SUMMARY:Agility Beg
DESCRIPTION:Agility Class Beginner Level
LOCATION:TDHD, 8575 NW 150th ave Morriston FL 32668
END:VEVENT
BEGIN:VEVENT
DTSTART;VALUE=DATE-TIME:20260430T213000Z
DTEND;VALUE=DATE-TIME:20260430T223000Z
DTSTAMP:20260425T132558
UID:226-1777584600-1777588200@https://traineddoghappydog.com
SUMMARY:Agility Int 1
DESCRIPTION:Agility Class Intermediate Level 1
LOCATION:TDHD, 8575 NW 150th ave Morriston FL 32668
END:VEVENT
END:VCALENDAR